BEGIN:VCALENDAR
PRODID:-//AT Content Types//AT Event//EN
VERSION:1.0
BEGIN:VEVENT
DTSTART:20250131T190000Z
DTEND:20250202T200000Z
DCREATED:20240924T185559Z
UID:ATEvent-5af49a95ceac43f6b46f20003dbfa984
SEQUENCE:0
LAST-MODIFIED:20240924T190005Z
SUMMARY:The Sligo Tournament
LOCATION:Diamond Coast Hotel\, Enniscrone
PRIORITY:3
TRANSP:0
END:VEVENT
END:VCALENDAR
