BEGIN:VCALENDAR
PRODID:-//AT Content Types//AT Event//EN
VERSION:1.0
BEGIN:VEVENT
DTSTART:20240914T110000Z
DTEND:20240914T160000Z
DCREATED:20240131T075250Z
UID:ATEvent-40e1d61f9ab449159d3e4d304828c936
SEQUENCE:0
LAST-MODIFIED:20240131T075301Z
SUMMARY:Open Day at Bangor Chess Club
LOCATION:Church of Ireland Parish Hall\, Groomsport
PRIORITY:3
TRANSP:0
END:VEVENT
END:VCALENDAR
