BEGIN:VCALENDAR
PRODID:-//AT Content Types//AT Event//EN
VERSION:1.0
BEGIN:VEVENT
DTSTART:20241115T193000Z
DTEND:20241117T190000Z
DCREATED:20240826T161411Z
UID:ATEvent-230c15bc033d40b3b4289ce70be6eb37
SEQUENCE:0
LAST-MODIFIED:20241031T065101Z
SUMMARY:FIDE rated Ulster Masters 2024
LOCATION:Maynard Sinclair Sports Pavilion\, Stormont Estate (Castleview Suite
PRIORITY:3
TRANSP:0
END:VEVENT
END:VCALENDAR
