BEGIN:VCALENDAR
PRODID:-//AT Content Types//AT Event//EN
VERSION:2.0
METHOD:PUBLISH
BEGIN:VEVENT
DTSTAMP:20260420T060808Z
CREATED:20250426T052444Z
UID:ATEvent-84b0da9f62ee4429a07f3cd4d65826fa
LAST-MODIFIED:20250704T145338Z
SUMMARY:City of Lisburn Championship
DTSTART:20250726T103000Z
DTEND:20250726T150000Z
LOCATION:Lisburn Chess Club\, 60-62 Longstone Street
CONTACT:Neil Gardner\, lisburnchessclub@hotmail.com
CLASS:PUBLIC
END:VEVENT
END:VCALENDAR
