BEGIN:VCALENDAR
PRODID:-//AT Content Types//AT Event//EN
VERSION:1.0
BEGIN:VEVENT
DTSTART:20241219T193000Z
DTEND:20241219T220000Z
DCREATED:20241126T170307Z
UID:ATEvent-fa27e04911e44c9ab81cebf8d387dd1b
SEQUENCE:0
LAST-MODIFIED:20241126T170315Z
SUMMARY:FIDE RATED City of Bangor Winter Classic 2024 Round 4
LOCATION:Church of Ireland Parish Hall\, 30 Main Street\, Groomsport\, County Down\, BT19 6JR\, Northern Ireland
PRIORITY:3
TRANSP:0
END:VEVENT
END:VCALENDAR
