BEGIN:VCALENDAR
PRODID:-//AT Content Types//AT Event//EN
VERSION:2.0
METHOD:PUBLISH
BEGIN:VEVENT
DTSTAMP:20260420T061431Z
CREATED:20241126T170003Z
UID:ATEvent-59b8a0392a4b4c678e5f148ea4d5270c
LAST-MODIFIED:20241126T170124Z
SUMMARY:FIDE RATED City of Bangor Winter Classic 2024 Round 3
DTSTART:20241212T193000Z
DTEND:20241212T223000Z
LOCATION:Church of Ireland Parish Hall\, 30 Main Street\, Groomsport\, County Down\, BT19 6JR\, Northern Ireland
CONTACT:Brendan Jamison\, fidechessni@gmail.com
CLASS:PUBLIC
END:VEVENT
END:VCALENDAR
