BEGIN:VCALENDAR
PRODID:-//AT Content Types//AT Event//EN
VERSION:2.0
METHOD:PUBLISH
BEGIN:VEVENT
DTSTAMP:20260420T060229Z
CREATED:20250416T145404Z
UID:ATEvent-0e7fd1f824dc4eae8576265130fa021d
LAST-MODIFIED:20250416T152825Z
SUMMARY:FIDE RATED Belfast Blitz Championship 2025
DTSTART:20250524T191500Z
DTEND:20250524T220000Z
LOCATION:Castleview Suite\, Maynard Sinclair Sports Pavilion\, Upper Newtownards Road\, Belfast\, Northern Ireland
CONTACT:Brendan Jamison\, fidechessni@gmail.com
CLASS:PUBLIC
END:VEVENT
END:VCALENDAR
