BEGIN:VCALENDAR
PRODID:-//AT Content Types//AT Event//EN
VERSION:1.0
BEGIN:VEVENT
DTSTART:20240928T100000Z
DTEND:20240928T170000Z
DCREATED:20240131T075606Z
UID:ATEvent-eac2038bb890456286c065fae049d1fa
SEQUENCE:0
LAST-MODIFIED:20240131T075615Z
SUMMARY:FIDE RATED Bangor Congress 2024 (one day Rapid)
LOCATION:Church of Ireland Parish Hall\, Groomsport
PRIORITY:3
TRANSP:0
END:VEVENT
END:VCALENDAR
