BEGIN:VCALENDAR
PRODID:-//AT Content Types//AT Event//EN
VERSION:2.0
METHOD:PUBLISH
BEGIN:VEVENT
DTSTAMP:20260422T072239Z
CREATED:20220421T194946Z
UID:ATEvent-a494fe46d34c4b40b159211f10526724
LAST-MODIFIED:20220503T213249Z
SUMMARY:Rapidplay at Newry
DTSTART:20220508T133000Z
DTEND:20220508T170000Z
DESCRIPTION:Newry Chess Club is delighted to advertise their rapidplay
  to be held Sunday 8th May
LOCATION:Sticky Fingers Arts Centre\, 10 Upper Edward Street\, Newry\, BT35 6AX
CONTACT:Newry Chess Club\, newrychess@gmail.com
CLASS:PUBLIC
END:VEVENT
END:VCALENDAR
