BEGIN:VCALENDAR
PRODID:-//AT Content Types//AT Event//EN
VERSION:2.0
METHOD:PUBLISH
BEGIN:VEVENT
DTSTAMP:20260422T041259Z
CREATED:20220510T203627Z
UID:ATEvent-e20bc8b8081c43c3bd38127bda88d56a
LAST-MODIFIED:20220510T203640Z
SUMMARY:Newry Classic - Newry Chess Festival
DTSTART:20220527T193000Z
DTEND:20220528T173000Z
DESCRIPTION:FIDE RATED U1800 Newry Classic at 60+0 Friday 27th & Satur
 day 28th May
LOCATION:Sticky Fingers Arts Centre\, 10 Upper Edward Street\, Newry\, BT35 6AX\, Northern Ireland
CONTACT:Mark Revels\, newrychess@gmail.com
CLASS:PUBLIC
END:VEVENT
END:VCALENDAR
