BEGIN:VCALENDAR
PRODID:-//AT Content Types//AT Event//EN
VERSION:2.0
METHOD:PUBLISH
BEGIN:VEVENT
DTSTAMP:20260422T121424Z
CREATED:20220510T203608Z
UID:ATEvent-5bc72dcbee46498dadf54d14c091bf06
LAST-MODIFIED:20220510T203622Z
SUMMARY:Newry Blitz Championship - Newry Chess Festival
DTSTART:20220529T110000Z
DTEND:20220529T170000Z
DESCRIPTION:FIDE RATED Newry Blitz Championship at 10+0\, Sunday 29th 
 May 2022
LOCATION:Sticky Fingers Arts Centre\, 10 Upper Edward Street\, Newry\, BT35 6AX\, Northern Ireland
CONTACT:Mark Revels\, newrychess@gmail.com
CLASS:PUBLIC
END:VEVENT
END:VCALENDAR
