BEGIN:VCALENDAR
PRODID:-//AT Content Types//AT Event//EN
VERSION:2.0
METHOD:PUBLISH
BEGIN:VEVENT
DTSTAMP:20260422T060257Z
CREATED:20220911T120048Z
UID:ATEvent-6182b57d29a942e89c9d31f41396f9b6
LAST-MODIFIED:20220911T120111Z
SUMMARY:FIDE-rated Omagh Rapidplay Championship 2022
DTSTART:20221203T104500Z
DTEND:20221203T170000Z
DESCRIPTION:This is event 6 of 10 in the NI FIDE Rapid Grand Prix 2022
 /2023 held on 3rd December 2022.
LOCATION:Christian Brothers Grammar School\, Kevlin Rd\, Omagh BT78 1LD
CONTACT:Brendan Jamison\, fidechessni@gmail.com
CLASS:PUBLIC
END:VEVENT
END:VCALENDAR
