BEGIN:VCALENDAR
PRODID:-//AT Content Types//AT Event//EN
VERSION:2.0
METHOD:PUBLISH
BEGIN:VEVENT
DTSTAMP:20260422T090318Z
CREATED:20220211T131316Z
UID:ATEvent-fddb9e83084a46498e525ce2bac02cb4
LAST-MODIFIED:20220211T131652Z
SUMMARY:Holywood Rapid Championship 2022
DTSTART:20220222T093000Z
DTEND:20220222T114500Z
DESCRIPTION:A rapidplay tournament at Holywood Chess Club on Tuesday 2
 2nd February
LOCATION:Holywood Old School
CONTACT:Rebecca \, Bangorchessclubni@gmail.com
CLASS:PUBLIC
END:VEVENT
END:VCALENDAR
