BEGIN:VCALENDAR
PRODID:-//AT Content Types//AT Event//EN
VERSION:1.0
BEGIN:VEVENT
DTSTART:20220423T100000Z
DTEND:20220423T170000Z
DCREATED:20220223T183349Z
UID:ATEvent-7aeecb589a0c4939a8896c07ca35028d
SEQUENCE:0
LAST-MODIFIED:20220223T183420Z
SUMMARY:Groomsport Classic 2022 - Two Day Event
DESCRIPTION:Groomsport Classic will be a two day event - 21/04/22 & 23
 /04/22
LOCATION:Church of Ireland Parish Hall\, 30 Main Street\, Groomsport\, Co Down
PRIORITY:3
TRANSP:0
END:VEVENT
END:VCALENDAR
