BEGIN:VCALENDAR
PRODID:-//AT Content Types//AT Event//EN
VERSION:2.0
METHOD:PUBLISH
BEGIN:VEVENT
DTSTAMP:20260419T123213Z
CREATED:20220418T132015Z
UID:ATEvent-2cc2b52ee22b4b9db0bc8bdcbb67d974
LAST-MODIFIED:20220418T132029Z
SUMMARY:Bangor Congress 2022
DTSTART:20220903T094500Z
DTEND:20220903T170000Z
DESCRIPTION:6 round Swiss Open Tournament at Bangor with two competing
  sections
LOCATION:Church of Ireland Parish Hall\, 30 Main Street\, Groomsport\, County Down\, BT19 6JR\, Northern Ireland
CONTACT:Bangor Chess Club\, bangorchessclubni@gmail.com
CLASS:PUBLIC
END:VEVENT
END:VCALENDAR
