BEGIN:VCALENDAR
PRODID:-//AT Content Types//AT Event//EN
VERSION:2.0
METHOD:PUBLISH
BEGIN:VEVENT
DTSTAMP:20260422T084817Z
CREATED:20250922T215921Z
UID:ATEvent-828d98d6ffe54fc182e9cd271c07b375
LAST-MODIFIED:20251009T094628Z
SUMMARY:LJCC - Belfast Qualifier 2025: 25th October - re-organised
DTSTART:20251025T093000Z
DTEND:20251025T170000Z
DESCRIPTION:An opportunity for Primary Students to Qualify for the Lon
 don Junior Chess Championships and for Secondary pupils to enjoy a com
 petition - one of the most prestigious Junior chess events. The qualif
 ier is an all day 6 round Children's Tournament.
LOCATION:Methodist College,1 Malone Rd\, Belfast BT9 6BY
CONTACT:Mark Newman\, 07872544868\, mark.chris.newman@googlemail.com
CLASS:PUBLIC
END:VEVENT
END:VCALENDAR
