BEGIN:VCALENDAR
PRODID:-//AT Content Types//AT Event//EN
VERSION:1.0
BEGIN:VEVENT
DTSTART:20250329T101500Z
DTEND:20250329T161500Z
DCREATED:20250309T220852Z
UID:ATEvent-69dabb95fae442f3a5d7c308ff77a4d6
SEQUENCE:0
LAST-MODIFIED:20250309T220943Z
SUMMARY:FIDE RATED Ulster Team Rapid Championships 2025
DESCRIPTION:Date: Saturday 29 March 2025 at City Of Banger Chess Club.
  Teams of 4 invited to play. Play to become Ulster Champions.
LOCATION:City of Bangor Chess Club\, Church of Ireland Parish Hall\, 30 Main Street Groomsport\, BT19 6JR
PRIORITY:3
TRANSP:0
END:VEVENT
END:VCALENDAR
