BEGIN:VCALENDAR
PRODID:-//AT Content Types//AT Event//EN
VERSION:2.0
METHOD:PUBLISH
BEGIN:VEVENT
DTSTAMP:20260421T100902Z
CREATED:20250404T173945Z
UID:ATEvent-1a41de42faa04d158cfff941834f3983
LAST-MODIFIED:20250404T174013Z
SUMMARY:Ulster Fischer Random Rapidplay Championship 2025
DTSTART:20250608T103000Z
DTEND:20250608T180000Z
DESCRIPTION:7 rounds of Fischer Random Chess\, Sunday 8th June at the 
 Civil Service Pavilion.
LOCATION:NICS,Maynard Sinclair Pavilion\, Stormont\, Upper Newtownards Road\, Belfast\, BT4 3TA
CONTACT:Mark Newman\, 07872544868\, mark.chris.newman@googlemail.com
CLASS:PUBLIC
END:VEVENT
END:VCALENDAR
