BEGIN:VCALENDAR
PRODID:-//AT Content Types//AT Event//EN
VERSION:1.0
BEGIN:VEVENT
DTSTART:20250604T193000Z
DTEND:20250604T223000Z
DCREATED:20250530T162513Z
UID:ATEvent-e97e5451579c4b4db021ca84c59094c4
SEQUENCE:0
LAST-MODIFIED:20250530T162534Z
SUMMARY:The Summer Tournament Weds 4th June at Civil Service Pavilion
DESCRIPTION:Weds 4th June and the 5th Week. The aim is to start each r
 ound at 7.45 pm. Please arrive at least by 7:30pm and if arriving late
  let me know.
LOCATION:NICS,Maynard Sinclair Pavilion\, Stormont\, Upper Newtownards Road\, Belfast\, BT4 3TA
PRIORITY:3
TRANSP:0
END:VEVENT
END:VCALENDAR
