BEGIN:VCALENDAR
PRODID:-//AT Content Types//AT Event//EN
VERSION:1.0
BEGIN:VEVENT
DTSTART:20250528T193000Z
DTEND:20250528T223000Z
DCREATED:20250525T123146Z
UID:ATEvent-662c210759164c1ca781c9af7fc5d04d
SEQUENCE:0
LAST-MODIFIED:20250525T203125Z
SUMMARY:The Summer Tournament Weds 28th May at Civil Service Pavilion
DESCRIPTION:Weds 28th May and the 4th Week. The aim is to start each r
 ound at 7.45 pm. Please arrive at least by 7:30pm and if arriving late
  let me know.
LOCATION:NICS,Maynard Sinclair Pavilion\, Stormont\, Upper Newtownards Road\, Belfast\, BT4 3TA
PRIORITY:3
TRANSP:0
END:VEVENT
END:VCALENDAR
