BEGIN:VCALENDAR
PRODID:-//AT Content Types//AT Event//EN
VERSION:2.0
METHOD:PUBLISH
BEGIN:VEVENT
DTSTAMP:20260420T022932Z
CREATED:20250122T174600Z
UID:ATEvent-c6ef0d00df4243d1883de35d29d32e40
LAST-MODIFIED:20250122T180325Z
SUMMARY:The National Club Championships (NCC) 2025 will be held March 7th - 9th at the Sligo Park Hotel in Sligo.
DTSTART:20250307T200000Z
DTEND:20250309T180000Z
DESCRIPTION:An opportunity to play team chess against clubs from acros
 s Ireland. 5 rounds of team chess.
LOCATION:Sligo Park Hotel in Sligo
URL:https://icu.ie/events/1975
CLASS:PUBLIC
END:VEVENT
END:VCALENDAR
