BEGIN:VCALENDAR
PRODID:-//AT Content Types//AT Event//EN
VERSION:2.0
METHOD:PUBLISH
BEGIN:VEVENT
DTSTAMP:20260420T022932Z
CREATED:20250703T210631Z
UID:ATEvent-752923aa3fc94faeb83ae7425232545d
LAST-MODIFIED:20250721T203655Z
SUMMARY:The Citi Belfast Charity Rapidplay July 24th 2025.
DTSTART:20250724T191500Z
DTEND:20250724T223000Z
DESCRIPTION:( FIDE rated) Rapidplay tournament at Citi Offices on Thur
 sday 24th July Round 1 starts at 7:30pm. All monies being donated to A
 ir Ambulance Northern Ireland
LOCATION:Citi\, Gateway Offices\, 60 Sydenham Rd\, Belfast BT3 9DP.
CONTACT:Mark Newman\, 07872544868\, mark.chris.newman@googlemail.com
CLASS:PUBLIC
END:VEVENT
END:VCALENDAR
