BEGIN:VCALENDAR
PRODID:-//AT Content Types//AT Event//EN
VERSION:2.0
METHOD:PUBLISH
BEGIN:VEVENT
DTSTAMP:20260422T121500Z
CREATED:20240921T185353Z
UID:ATEvent-08fdc405885d4426a0017a3a470fb8ea
LAST-MODIFIED:20241125T224831Z
SUMMARY:Ulster Schools Individual Championships 2024
DTSTART:20241207T100000Z
DTEND:20241207T163000Z
DESCRIPTION:Come and challenge to become the Ulster Schools Chess Cham
 pion 2024. 7th December at Methodist College.
LOCATION:Methodist College,1 Malone Rd\, Belfast BT9 6BY
CONTACT:Mark Newman\, 07872544868\, mark.chris.newman@googlemail.com
CLASS:PUBLIC
END:VEVENT
END:VCALENDAR
