BEGIN:VCALENDAR
PRODID:-//AT Content Types//AT Event//EN
VERSION:1.0
BEGIN:VEVENT
DTSTART:20250308T123000Z
DTEND:20250308T170000Z
DCREATED:20250119T203806Z
UID:ATEvent-c1721af514254ca1b2c2672cd2fa4296
SEQUENCE:0
LAST-MODIFIED:20250119T203834Z
SUMMARY:March 8th 2025 Childrens Chess 12:30 – 5:00
DESCRIPTION:Monthly Chess Tournaments Continues at Methodist College.
LOCATION:Methodist College,1 Malone Rd\, Belfast BT9 6BY
PRIORITY:3
TRANSP:0
END:VEVENT
END:VCALENDAR
