BEGIN:VCALENDAR
PRODID:-//AT Content Types//AT Event//EN
VERSION:1.0
BEGIN:VEVENT
DTSTART:20250208T000000Z
DTEND:20250208T000000Z
DCREATED:20250119T203440Z
UID:ATEvent-3f4b33b6421f4d9489d3fff2b48af976
SEQUENCE:0
LAST-MODIFIED:20250119T203934Z
SUMMARY:February 8th 2025 Childrens Chess 12:30 – 5:00
DESCRIPTION:Monthly Chess Tournaments Continues at Methodist College.
LOCATION:Methodist College,1 Malone Rd\, Belfast BT9 6BY
PRIORITY:3
TRANSP:0
END:VEVENT
END:VCALENDAR
