BEGIN:VCALENDAR
PRODID:-//AT Content Types//AT Event//EN
VERSION:1.0
BEGIN:VEVENT
DTSTART:20240602T103000Z
DTEND:20240602T180000Z
DCREATED:20240301T175450Z
UID:ATEvent-5bc7b6f6293944b18cc53151b65f3a81
SEQUENCE:0
LAST-MODIFIED:20240327T092350Z
SUMMARY:Ulster Fischer Random Rapidplay Championship 2024
DESCRIPTION:7 rounds of Fischer Random Chess\, Sunday 2nd June at the 
 Civil Service Pavilion.
LOCATION:NICS,Maynard Sinclair Pavilion\, Stormont\, Upper Newtownards Road\, Belfast\, BT4 3TA
PRIORITY:3
TRANSP:0
END:VEVENT
END:VCALENDAR
