BEGIN:VCALENDAR
PRODID:-//AT Content Types//AT Event//EN
VERSION:1.0
BEGIN:VEVENT
DTSTART:20240407T100000Z
DTEND:20240407T180000Z
DCREATED:20240329T103531Z
UID:ATEvent-30a2d4c413cf44df95d00aaf70e7a751
SEQUENCE:0
LAST-MODIFIED:20240329T103545Z
SUMMARY:Cancelled ** 7th April ** Ulster Fischer Random Rapidplay Championship 2024
DESCRIPTION:Now moved to a new date 2nd June.
PRIORITY:3
TRANSP:0
END:VEVENT
END:VCALENDAR
