BEGIN:VCALENDAR
PRODID:-//AT Content Types//AT Event//EN
VERSION:1.0
BEGIN:VEVENT
DTSTART:20230930T104500Z
DTEND:20230930T180000Z
DCREATED:20230813T182809Z
UID:ATEvent-789eda8b646444819ceec06e278d9ccc
SEQUENCE:0
LAST-MODIFIED:20230813T183008Z
SUMMARY:UK Blitz Championships 2023 - Belfast Qualifier - Sept 30th
DESCRIPTION:An opportunity to qualify for the UK Blitz Championships. 
 Belfast is holding one of the 8 qualifying tournaments across the UK.
LOCATION:NICS,Maynard Sinclair Pavilion\, Stormont\, Upper Newtownards Road\, Belfast\, BT4 3TA
PRIORITY:3
TRANSP:0
END:VEVENT
END:VCALENDAR
