BEGIN:VCALENDAR
PRODID:-//AT Content Types//AT Event//EN
VERSION:1.0
BEGIN:VEVENT
DTSTART:20221111T183000Z
DTEND:20221113T193000Z
DCREATED:20221002T205815Z
UID:ATEvent-72640cb552164f97a92bad146ae70df1
SEQUENCE:0
LAST-MODIFIED:20221111T130144Z
SUMMARY:Ulster Masters\, 11-13th November 2022 ** Registration Closed **
DESCRIPTION:Due to numbers we have closed registration.\nThis years Ul
 ster Masters will be held at the brilliant Lisburn Chess Club.\nEntran
 ts list as at 8th Nov 10:00pm
LOCATION:Lisburn Chess Club\, 60-62 Longstone Street
PRIORITY:3
TRANSP:0
END:VEVENT
END:VCALENDAR
