BEGIN:VCALENDAR
PRODID:-//AT Content Types//AT Event//EN
VERSION:2.0
METHOD:PUBLISH
BEGIN:VEVENT
DTSTAMP:20260422T085643Z
CREATED:20220926T202817Z
UID:ATEvent-b19fe98605614382a90632e846796839
LAST-MODIFIED:20220926T202836Z
SUMMARY:Greenisland FC Chess Club: UCU Rated Blitz Tournament on the 30th September 2022
DTSTART:20220930T190000Z
DTEND:20220930T210000Z
DESCRIPTION:Greenisland FC Chess Club will be hosting a UCU Rated Blit
 z Tournament on the 30th September 2022.\nThis will be 7 rounds of 5 m
 inute blitz.\nRegistration will be from 7pm onwards and clocks will st
 art at 7:30pm.
LOCATION:Greenisland FC Chess Club
CONTACT:Chris Dorrian\, 07934177350\, greenislandfcchess@gmail.com
CLASS:PUBLIC
END:VEVENT
END:VCALENDAR
