BEGIN:VCALENDAR
PRODID:-//AT Content Types//AT Event//EN
VERSION:2.0
METHOD:PUBLISH
BEGIN:VEVENT
DTSTAMP:20260420T021430Z
CREATED:20211231T103413Z
UID:ATEvent-e6096112150640a19006640c89a43dd6
LAST-MODIFIED:20220130T231328Z
SUMMARY:FIDE rated: Williamson Championship 2022  4th-6th Feb.
DTSTART:20220204T180000Z
DTEND:20220206T190000Z
DESCRIPTION:Start the New year with this wonderful historic tournament
  - over 100 years old - The Williamson Shield 2022. 5 rounds over 3 da
 ys. At the Civil Service Pavilion.
LOCATION:NICS,Maynard Sinclair Pavilion\, Stormont\, Upper Newtownards Road\, Belfast\, BT4 3TA
CONTACT:Mark Newman\, 07872544868\, mark.chris.newman@googlemail.com
CLASS:PUBLIC
END:VEVENT
END:VCALENDAR
