BEGIN:VCALENDAR
PRODID:-//AT Content Types//AT Event//EN
VERSION:2.0
METHOD:PUBLISH
BEGIN:VEVENT
DTSTAMP:20260420T021232Z
CREATED:20220618T203251Z
UID:ATEvent-2ec1e5953a174e97878faead9c74d585
LAST-MODIFIED:20220618T203450Z
SUMMARY:The 101st Irish Championship 2022
DTSTART:20220701T090000Z
DTEND:20220710T220000Z
DESCRIPTION:The Irish Championship 2022: First Weekender\, The 101st I
 rish Championship 2022\, The Irish Championship 2022: Rapid\, The Iris
 h Weekday Open 2022\, The Irish Championships 2022: Open Weekender\, T
 he Irish Championship 2022: Blitz. All over the week 1st - 10th July. 
 Venue: Talbot Hotel\, Stillorgan\, Dublin
LOCATION:Talbot Hotel\, Stillorgan\, Dublin
URL:https://www.icu.ie/
CLASS:PUBLIC
END:VEVENT
END:VCALENDAR
