BEGIN:VCALENDAR
PRODID:-//AT Content Types//AT Event//EN
VERSION:2.0
METHOD:PUBLISH
BEGIN:VEVENT
DTSTAMP:20260425T104518Z
CREATED:20220508T210055Z
UID:ATEvent-fb9e95722e884a669c18e75deaebbbd9
LAST-MODIFIED:20220508T210113Z
SUMMARY:Second week of the Summer Tournament : Civil Service Pavilion : 11th May
DTSTART:20220511T193000Z
DTEND:20220511T223000Z
DESCRIPTION:The Summer Tournament is back at Civil Service Social Club
  starting every Wednesday at the Maynard Sinclair Pavilion until the e
 nd of September.
LOCATION:NICS,Maynard Sinclair Pavilion\, Stormont\, Upper Newtownards Road\, Belfast\, BT4 3TA
CONTACT:Mark Newman\, 07872544868\, mark.chris.newman@googlemail.com
CLASS:PUBLIC
END:VEVENT
END:VCALENDAR
