BEGIN:VCALENDAR
PRODID:-//AT Content Types//AT Event//EN
VERSION:2.0
METHOD:PUBLISH
BEGIN:VEVENT
DTSTAMP:20260425T123027Z
CREATED:20220812T221638Z
UID:ATEvent-54b775aa2acf4fe6b6e42951dc59d1f0
LAST-MODIFIED:20220812T221727Z
SUMMARY:** Cancelled Summer tournament ** Due to International Cricket
DTSTART:20220817T000000Z
DTEND:20220817T000000Z
DESCRIPTION:No Summer tournament on  Weds 17th August. Next round on W
 eds 24th August.
LOCATION:NICS,Maynard Sinclair Pavilion\, Stormont\, Upper Newtownards Road\, Belfast\, BT4 3TA
CONTACT:Mark Newman\, 07872544868\, mark.chris.newman@googlemail.com
CLASS:PUBLIC
END:VEVENT
END:VCALENDAR
