BEGIN:VCALENDAR
PRODID:-//AT Content Types//AT Event//EN
VERSION:1.0
BEGIN:VEVENT
DTSTART:20220525T193000Z
DTEND:20220525T224500Z
DCREATED:20220524T194859Z
UID:ATEvent-0ff703a08b264c5e86232a767672f582
SEQUENCE:0
LAST-MODIFIED:20220524T194930Z
SUMMARY:4th week of the Summer Tournament : Civil Service Pavilion : 25th May
DESCRIPTION:The Summer Tournament is back at Civil Service Social Club
  starting every Wednesday at the Maynard Sinclair Pavilion until the e
 nd of September.
LOCATION:NICS,Maynard Sinclair Pavilion\, Stormont\, Upper Newtownards Road\, Belfast\, BT4 3TA
PRIORITY:3
TRANSP:0
END:VEVENT
END:VCALENDAR
