BEGIN:VCALENDAR
PRODID:-//AT Content Types//AT Event//EN
VERSION:2.0
METHOD:PUBLISH
BEGIN:VEVENT
DTSTAMP:20260425T122955Z
CREATED:20220919T211551Z
UID:ATEvent-b860e95dfaa24b0ba9a82a29a2a825e0
LAST-MODIFIED:20220919T211619Z
SUMMARY:20h week of the Summer Tournament : Civil Service Pavilion : 21st Sept.
DTSTART:20220921T073000Z
DTEND:20220921T104500Z
DESCRIPTION:We are into the last weeks of the Summer Tournament. This 
 is the last evening of slow play chess - followed on the last Wednesda
 y 28th Sept with a fun quickplay tournament and prize giving.
LOCATION:NICS,Maynard Sinclair Pavilion\, Stormont\, Upper Newtownards Road\, Belfast\, BT4 3TA
CONTACT:Mark Newman\, 07872544868\, mark.chris.newman@googlemail.com
CLASS:PUBLIC
END:VEVENT
END:VCALENDAR
