BEGIN:VCALENDAR
PRODID:-//AT Content Types//AT Event//EN
VERSION:2.0
METHOD:PUBLISH
BEGIN:VEVENT
DTSTAMP:20260425T122913Z
CREATED:20220911T174617Z
UID:ATEvent-067acafd9275421ab1135be343be0f93
LAST-MODIFIED:20220911T174807Z
SUMMARY:19th week of the Summer Tournament : Civil Service Pavilion : 14th Sept.
DTSTART:20220914T193000Z
DTEND:20220914T224500Z
DESCRIPTION:We are into the last weeks of the Summer Tournament. 2 mor
 e Wednesdays followed on the last Wednesday 28th Sept with a fun quick
 play tournament and prize giving.
LOCATION:NICS,Maynard Sinclair Pavilion\, Stormont\, Upper Newtownards Road\, Belfast\, BT4 3TA
CONTACT:Mark Newman\, 07872544868\, mark.chris.newman@googlemail.com
CLASS:PUBLIC
END:VEVENT
END:VCALENDAR
