BEGIN:VCALENDAR
PRODID:-//AT Content Types//AT Event//EN
VERSION:2.0
METHOD:PUBLISH
BEGIN:VEVENT
DTSTAMP:20260425T122920Z
CREATED:20220803T131732Z
UID:ATEvent-b975ca1c157c43709d0eedec7d5e3bfb
LAST-MODIFIED:20220803T131750Z
SUMMARY:14th week of the Summer Tournament : Civil Service Pavilion : 3rd August
DTSTART:20220803T193000Z
DTEND:20220803T224500Z
DESCRIPTION:The Summer Tournament is back at Civil Service Social Club
  starting every Wednesday at the Maynard Sinclair Pavilion until the e
 nd of September.
LOCATION:NICS,Maynard Sinclair Pavilion\, Stormont\, Upper Newtownards Road\, Belfast\, BT4 3TA
CONTACT:Mark Newman\, 07872544868\, mark.chris.newman@googlemail.com
CLASS:PUBLIC
END:VEVENT
END:VCALENDAR
