BEGIN:VCALENDAR
PRODID:-//AT Content Types//AT Event//EN
VERSION:2.0
METHOD:PUBLISH
BEGIN:VEVENT
DTSTAMP:20260420T061658Z
CREATED:20211007T172336Z
UID:ATEvent-4bcf4857f5024ddab43b166e94cc725c
LAST-MODIFIED:20211007T172353Z
SUMMARY:Greenisland FC Chess: Not Halloween/Not Christmas Mini Rapid
DTSTART:20211101T184500Z
DTEND:20211101T220000Z
DESCRIPTION:Monday 1st November 2021 from 7pm to 10pm\n5 rounds 15 tim
 e control
LOCATION:Greenisland FC Clubhouse\, 100 Glenkeen Av\, Greenisland\, BT38 8ST
CONTACT:Chris Dorrian\, 07934177350\, greenislandfcchess@gmail.com
CLASS:PUBLIC
END:VEVENT
END:VCALENDAR
