BEGIN:VCALENDAR
PRODID:-//AT Content Types//AT Event//EN
VERSION:1.0
BEGIN:VEVENT
DTSTART:20211006T184500Z
DTEND:20211006T220000Z
DCREATED:20211005T222121Z
UID:ATEvent-5f36e696486f430ca8f40e04efff6866
SEQUENCE:0
LAST-MODIFIED:20211005T222147Z
SUMMARY:Civil Service Active and Puzzle Solving Competition 6th Oct.
DESCRIPTION:To get those gray cells working in lieu of the start of th
 e league. Civil Service Chess Club are providing an evening of quick c
 hess and puzzle solving.
LOCATION:NICS,Maynard Sinclair Pavilion\, Stormont\, Upper Newtownards Road\, Belfast\, BT4 3TA
PRIORITY:3
TRANSP:0
END:VEVENT
END:VCALENDAR
