BEGIN:VCALENDAR
PRODID:-//AT Content Types//AT Event//EN
VERSION:2.0
METHOD:PUBLISH
BEGIN:VEVENT
DTSTAMP:20260420T040750Z
CREATED:20220415T155625Z
UID:ATEvent-9d6ea1a1969e4a9589b8a5be3895a049
LAST-MODIFIED:20220614T202532Z
SUMMARY:City Of Belfast 2022 : June 17th to 19th. FIDE rated.
DTSTART:20220617T180000Z
DTEND:20220619T190000Z
DESCRIPTION:City of Belfast Championships. 5 rounds over 3 days. At th
 e Civil Service Pavilion.
LOCATION:NICS,Maynard Sinclair Pavilion\, Stormont\, Upper Newtownards Road\, Belfast\, BT4 3TA
CONTACT:Mark Newman\, 07872544868\, mark.chris.newman@googlemail.com
CLASS:PUBLIC
END:VEVENT
END:VCALENDAR
