BEGIN:VCALENDAR
PRODID:-//AT Content Types//AT Event//EN
VERSION:1.0
BEGIN:VEVENT
DTSTART:20211112T190000Z
DTEND:20211114T180000Z
DCREATED:20211024T153243Z
UID:ATEvent-c59540a1734b4eb689636c3eb0944974
SEQUENCE:0
LAST-MODIFIED:20211108T125117Z
SUMMARY:Ulster Masters\, 12-14th November 2021
DESCRIPTION:5 rounds over 3 days. At Queen's University.
LOCATION:Elmwood Hall\, Queen's University\, BT9 6BD
PRIORITY:3
TRANSP:0
END:VEVENT
END:VCALENDAR
