BEGIN:VCALENDAR
PRODID:-//AT Content Types//AT Event//EN
VERSION:1.0
BEGIN:VEVENT
DTSTART:20211211T100000Z
DTEND:20211211T163000Z
DCREATED:20211116T184156Z
UID:ATEvent-92f6fa2248f849f7b73fe7197a315c84
SEQUENCE:0
LAST-MODIFIED:20211116T184219Z
SUMMARY:Ulster Schools Individual Championships 2021
DESCRIPTION:Come and challenge to become the Ulster Schools Chess Cham
 pion 2021. 11th December at Methodist College.
LOCATION:Methodist College,1 Malone Rd\, Belfast BT9 6BY
PRIORITY:3
TRANSP:0
END:VEVENT
END:VCALENDAR
