BEGIN:VCALENDAR
PRODID:-//AT Content Types//AT Event//EN
VERSION:2.0
METHOD:PUBLISH
BEGIN:VEVENT
DTSTAMP:20260420T060224Z
CREATED:20211017T083258Z
UID:ATEvent-cb0b36d47f0b4dd1ae2ad7883245e222
LAST-MODIFIED:20211017T083804Z
SUMMARY:Childrens Chess November 6th
DTSTART:20211106T123000Z
DTEND:20211106T163000Z
DESCRIPTION:Fun afternoon Chess tournament and puzzle competition.
LOCATION:Methodist College,1 Malone Rd\, Belfast BT9 6BY
CONTACT:Mark Newman\, 07872544868\, mark.chris.newman@googlemail.com
CLASS:PUBLIC
END:VEVENT
END:VCALENDAR
