BEGIN:VCALENDAR
PRODID:-//AT Content Types//AT Event//EN
VERSION:2.0
METHOD:PUBLISH
BEGIN:VEVENT
DTSTAMP:20260420T043221Z
CREATED:20211009T123910Z
UID:ATEvent-3a05d0bd28be4004bf17d3d998320ffa
LAST-MODIFIED:20211009T123927Z
SUMMARY:FIDE RATED  Bangor Rapid Championship  Thursday 18 November 2021
DTSTART:20211118T184500Z
DTEND:20211118T220000Z
DESCRIPTION:hursday 18 November 2021\, 7pm to 10pm\, 5 rounds of 15+0
LOCATION:Pickie Bowling Club\, 82 Broadway\, Bangor\, BT20 4TS
CONTACT:Brendan Jamison\, bangorchessclubni@gmail.com
CLASS:PUBLIC
END:VEVENT
END:VCALENDAR
