BEGIN:VCALENDAR
PRODID:-//AT Content Types//AT Event//EN
VERSION:1.0
BEGIN:VEVENT
DTSTART:20211028T185000Z
DTEND:20211028T220000Z
DCREATED:20211007T170200Z
UID:ATEvent-66eebaf3ac7e4449a09ad8e35496acae
SEQUENCE:0
LAST-MODIFIED:20211011T160005Z
SUMMARY:Bangor Blitz Championship: FIDE rated **NOW FULL**
DESCRIPTION:Thursday 28 October 2021\, 7pm to 10pm\, 7 rounds of 10+0\
 nPickie Bowling Club\, 82 Broadway\, Bangor\, BT20 4TS
LOCATION:Pickie Bowling Club\, 82 Broadway\, Bangor\, BT20 4TS
PRIORITY:3
TRANSP:0
END:VEVENT
END:VCALENDAR
