BEGIN:VCALENDAR
PRODID:-//AT Content Types//AT Event//EN
VERSION:1.0
BEGIN:VEVENT
DTSTART:20210918T093000Z
DTEND:20210918T133000Z
DCREATED:20210917T190653Z
UID:ATEvent-54b3276812b74f1da2ad9fa493f44ab6
SEQUENCE:0
LAST-MODIFIED:20210917T190749Z
SUMMARY:Bangor Classic - Saturday 18 September 2021 9:30am to 11:30am
DESCRIPTION:An outdoor flexible tournment brought to us from Bangor Ch
 ess Club and chess organizer Brendan Jamison.
LOCATION:Groomsport harbour picnic tables (located between main road and Cockle Row cottages).
PRIORITY:3
TRANSP:0
END:VEVENT
END:VCALENDAR
