BEGIN:VCALENDAR
PRODID:-//AT Content Types//AT Event//EN
VERSION:1.0
BEGIN:VEVENT
DTSTART:20210911T093000Z
DTEND:20210911T113000Z
DCREATED:20210906T091748Z
UID:ATEvent-5b3a03b038f041eaadc5e83099802fd8
SEQUENCE:0
LAST-MODIFIED:20210906T091804Z
SUMMARY:Bangor Classic - Beginning Saturday 11 September 2021 9:30am to 11:30am
DESCRIPTION:An outdoor flexible tournment brought to us from Bangor Ch
 ess Club and chess organizer Brendan Jamison.
LOCATION:Groomsport harbour picnic tables (located between main road and Cockle Row cottages).
PRIORITY:3
TRANSP:0
END:VEVENT
END:VCALENDAR
