BEGIN:VCALENDAR
PRODID:-//AT Content Types//AT Event//EN
VERSION:1.0
BEGIN:VEVENT
DTSTART:20211205T130000Z
DTEND:20211205T180000Z
DCREATED:20211019T131601Z
UID:ATEvent-dd19151491cb4588b2f85b73f2543b49
SEQUENCE:0
LAST-MODIFIED:20211204T125317Z
SUMMARY:NICS Alan Burns - Lackadaisical #1 2021-22 ** Covid rules apply **
DESCRIPTION:The first in the series of NICS rapidplays contributing to
  the Alan Burns Grand Prix. Enjoy a relaxing afternoon of chess.
LOCATION:NICS,Maynard Sinclair Pavilion\, Stormont\, Upper Newtownards Road\, Belfast\, BT4 3TA
PRIORITY:3
TRANSP:0
END:VEVENT
END:VCALENDAR
