BEGIN:VCALENDAR
PRODID:-//AT Content Types//AT Event//EN
VERSION:2.0
METHOD:PUBLISH
BEGIN:VEVENT
DTSTAMP:20260420T020855Z
CREATED:20230916T152859Z
UID:ATEvent-baecbb5830e742f59cb3d14c475cee6e
LAST-MODIFIED:20230919T173110Z
SUMMARY:Omagh Rapidplay Championship 2023
DTSTART:20231202T104500Z
DTEND:20231202T173000Z
LOCATION:Christian Brothers Grammar School\, Kevlin Rd\, Omagh BT78 1LD
CONTACT:Brendan Jamison\, fidechessni@gmail.com
CLASS:PUBLIC
END:VEVENT
END:VCALENDAR
